
BEGIN:VCALENDAR
VERSION:2.0
PRODID:-//Addison Road Community Centre - Marrickville - ECPv4.6.21//NONSGML v1.0//EN
CALSCALE:GREGORIAN
METHOD:PUBLISH
X-WR-CALNAME:Addison Road Community Centre - Marrickville
X-ORIGINAL-URL:http://www.arcco.org.au
X-WR-CALDESC:Events for Addison Road Community Centre - Marrickville
BEGIN:VEVENT
DTSTART;TZID=UTC+0:20190524T090000
DTEND;TZID=UTC+0:20190524T170000
DTSTAMP:20190228T213215
CREATED:20180919T011608Z
LAST-MODIFIED:20180919T012607Z
UID:2167-1558688400-1558717200@www.arcco.org.au
SUMMARY:Addison Road Urban Forests Conference
DESCRIPTION:\n \nRethinking the Urban Forest will showcase the importance of rebuilding urban forests in our cities\, and the risks to Australia’s urban forests and biodiversity from climate change\, with particular emphasis on Marrickville\, the Inner West\, and Sydney more generally. \nThe conference will focus on topics such as: climate change\, the context and politics of urban greening\, risks to and coverage of the urban tree canopy\, trees and other green infrastructure and green assets\, trees as hollows and homes for habitat\, the built environment and hot spot cities\, how to create an urban forest & urban tree selection\, Aboriginal land use practices\, the war on trees\, land clearing laws\, heat effects\, community health\, livability and wellbeing\, planning\, policies and implementation.  \nPractical workshops will include: making hollows as homes\, a tour of our habitat tree and monitoring our bat colony\, a ‘How to take action’ workshop\, and plant identification and placement. \nTrade and industry specialists will be encouraged to sponsor and exhibit.  \nFor more details contact: conference@arcco.org.au \n
URL:http://www.arcco.org.au/event/addison-road-urban-forests-conference-2/
LOCATION:Tumbalong Park\, Darling Harbour\, Sydney\, NSW\, 2000\, Australia
GEO:-33.8756305;151.2018474
X-APPLE-STRUCTURED-LOCATION;VALUE=URI;X-ADDRESS=Tumbalong Park Darling Harbour Sydney NSW 2000 Australia;X-APPLE-RADIUS=500;X-TITLE=Tumbalong Park\, Darling Harbour:geo:151.2018474,-33.8756305
ATTACH;FMTTYPE=image/gif:http://www.arcco.org.au/wp-content/uploads/2018/09/Conference-image2019-1024x5.gif
ORGANIZER;CN="The%20Addison%20Road%20Community%20Centre%20Organisation":MAILTO:conference@arcco.org.au
END:VEVENT
END:VCALENDAR